BEGIN:VCALENDAR
VERSION:2.0
PRODID:-//Zwischenraum - temporärer Kunstraum e.V. - ECPv6.15.18//NONSGML v1.0//EN
CALSCALE:GREGORIAN
METHOD:PUBLISH
X-WR-CALNAME:Zwischenraum - temporärer Kunstraum e.V.
X-ORIGINAL-URL:https://zwischenraum-aurich.de
X-WR-CALDESC:Veranstaltungen für Zwischenraum - temporärer Kunstraum e.V.
REFRESH-INTERVAL;VALUE=DURATION:PT1H
X-Robots-Tag:noindex
X-PUBLISHED-TTL:PT1H
BEGIN:VTIMEZONE
TZID:Europe/Berlin
BEGIN:DAYLIGHT
TZOFFSETFROM:+0100
TZOFFSETTO:+0200
TZNAME:CEST
DTSTART:20250330T010000
END:DAYLIGHT
BEGIN:STANDARD
TZOFFSETFROM:+0200
TZOFFSETTO:+0100
TZNAME:CET
DTSTART:20251026T010000
END:STANDARD
BEGIN:DAYLIGHT
TZOFFSETFROM:+0100
TZOFFSETTO:+0200
TZNAME:CEST
DTSTART:20260329T010000
END:DAYLIGHT
BEGIN:STANDARD
TZOFFSETFROM:+0200
TZOFFSETTO:+0100
TZNAME:CET
DTSTART:20261025T010000
END:STANDARD
BEGIN:DAYLIGHT
TZOFFSETFROM:+0100
TZOFFSETTO:+0200
TZNAME:CEST
DTSTART:20270328T010000
END:DAYLIGHT
BEGIN:STANDARD
TZOFFSETFROM:+0200
TZOFFSETTO:+0100
TZNAME:CET
DTSTART:20271031T010000
END:STANDARD
END:VTIMEZONE
BEGIN:VEVENT
DTSTART;TZID=Europe/Berlin:20260423T120000
DTEND;TZID=Europe/Berlin:20260520T170000
DTSTAMP:20260421T025915
CREATED:20260331T145236Z
LAST-MODIFIED:20260331T145236Z
UID:3402-1776945600-1779296400@zwischenraum-aurich.de
SUMMARY:Suche der Stadt Bestes - Kreatives Gestalten mit Ton in der SommerGalerie
DESCRIPTION:Vom 23.04.26 bis 20.05.26 (von 12 – 17 Uhr oder nach Absprache) findet das kreative Gestalten mit Ton zum Thema Stadtgestaltung statt. Was gehört für Dich noch nach Aurich? Baue es aus Ton! SUCHE DER STADT BESTES. \nEin Kunst- und Begegnungsprojekt unter der Schirmherrschaft von Horst Feddermann. \nAlle sind herzlich eingeladen\, in den Kunstraum Zwischenraum zu kommen und gemeinsam mit uns ldeen aus Ton zu bauen – Bauwerke\, Wünsche und Visionen für eine lebenswerte Stadt. Denkt mit\, baut mit\, kommnt ins Gespräch! \nAm Pfingstsonntag\, den 24. Mai 2026\, wird sichtbar\, was gemeinsam entstanden ist. \nUm 11:00 Uhr feiern wir einen ökumenischen Gottesdienst am Georgswall. Im Anschluss werden die entstandenen Ton-Arbeiten auf der Rampe hinter dem Zwischenraum in einer Vernissage präsentiert.\nWer schon vorher schauen mochte: Die ersten ldeen sind bereits zu sehen – Schülerarbeiten der Grundschule Upstalsboom in der Lambertikirche und im Gemeindehaus. \nParallel dazu läuft die Ausstellung Stadtbild(er) vom 15. Mai – 20. Juni 2026 im Zwischenraum.
URL:https://zwischenraum-aurich.de/termin/suche-der-stadt-bestes-kreatives-gestalten-mit-ton-in-der-sommergalerie/
LOCATION:Zwischenraum Osterstraße\, Osterstraße 28-30\, Aurich\, 26603\, Deutschland
CATEGORIES:Ausstellung,Kulturarbeit,Workshop
ATTACH;FMTTYPE=image/jpeg:https://zwischenraum-aurich.de/wp-content/uploads/2026/03/stadt-bestes-2-2.jpg
ORGANIZER;CN="Zwischenraum":MAILTO:breev@zwischenraum-aurich.de
END:VEVENT
BEGIN:VEVENT
DTSTART;TZID=Europe/Berlin:20260424T183000
DTEND;TZID=Europe/Berlin:20260425T170000
DTSTAMP:20260421T025915
CREATED:20260331T145809Z
LAST-MODIFIED:20260331T145944Z
UID:3405-1777055400-1777136400@zwischenraum-aurich.de
SUMMARY:Stadtbild(er) - Abendmal'n mit Wolfgang Jacobs
DESCRIPTION:Dieser Sgraffito-Kurs ist an Exponate zum Thema Stadtbilder gebunden\, die dann in einer 5-wöchigen Ausstellung vom 15. Mai bis 20. Juni gezeigt werden sollen. Kosten für Material und Getränke 20/25 Euro. \nAnmeldungen per Email an vorstand@zwischenraum-aurich.de oder direkt in der Galerie.
URL:https://zwischenraum-aurich.de/termin/stadtbilder-abendmaln-mit-wolfgang-jacobs/
LOCATION:Zwischenraum Osterstraße\, Osterstraße 28-30\, Aurich\, 26603\, Deutschland
CATEGORIES:Kulturarbeit,Workshop
ATTACH;FMTTYPE=image/jpeg:https://zwischenraum-aurich.de/wp-content/uploads/2026/03/stadtbilder-2.jpg
ORGANIZER;CN="Zwischenraum":MAILTO:breev@zwischenraum-aurich.de
END:VEVENT
BEGIN:VEVENT
DTSTART;TZID=Europe/Berlin:20260425T110000
DTEND;TZID=Europe/Berlin:20260425T170000
DTSTAMP:20260421T025915
CREATED:20260331T150905Z
LAST-MODIFIED:20260331T150905Z
UID:3410-1777114800-1777136400@zwischenraum-aurich.de
SUMMARY:Im Zeichen der Wolle - Kreatives Filzen mit Brigitte Kaul
DESCRIPTION:Wegen der großen Nachfrage bieten wir den eintägigen Kurs an. In gewohnt netter Atmosphäre zeigt Brigitte Kaul\, dass man mit Wolle\, warmen Wasser\, Seife und kreativer Leidenschaft die kreativsten Dinge zaubern kann. \nVon Deko für jede Jahreszeit über Taschen und Hüte bis hin zu Hausschuhen ist für jeden Geschmack etwas dabei. Außerdem macht es sehr viel Spass und hat durch die Reibetechnik eine meditative Wirkung. \nWer diese tolle und doch einfache Technik gerne lernen möchte\, meldet sich zeitnah im Zwischenraum an\, denn die Plätze sind begrenzt\, damit alle auf ihre Kosten kommen. Der Unkostenbeitrag für Materialkosten und Getränke beträgt pauschal 12\,00 Euro für Mitglieder und 15\,00 Euro für Nicht-Mitglieder. Bitte ein altes Frottee-Handtuch mitbringen.\nAnmeldungen per Email an vorstand@zwischenraum-aurich.de oder direkt in der Galerie.
URL:https://zwischenraum-aurich.de/termin/im-zeichen-der-wolle-kreatives-filzen-mit-brigitte-kaul-7/
LOCATION:Zwischenraum Osterstraße\, Osterstraße 28-30\, Aurich\, 26603\, Deutschland
CATEGORIES:Kulturarbeit,Workshop
ATTACH;FMTTYPE=image/jpeg:https://zwischenraum-aurich.de/wp-content/uploads/2026/03/filzen.jpg
ORGANIZER;CN="Zwischenraum":MAILTO:breev@zwischenraum-aurich.de
END:VEVENT
BEGIN:VEVENT
DTSTART;TZID=Europe/Berlin:20260425T190000
DTEND;TZID=Europe/Berlin:20260425T213000
DTSTAMP:20260421T025915
CREATED:20260331T151446Z
LAST-MODIFIED:20260331T152018Z
UID:3413-1777143600-1777152600@zwischenraum-aurich.de
SUMMARY:Seid nett zueinander - Familienfest mit Gesang\, Gift und Galle
DESCRIPTION:Christine Becker-Schmidt kommt mit ihrem Chor zu einer szenischen Vorab-Lesung aus der satirischen Situationskomödie in die Ausstellung von Hannes Bartels und kommentiert das Zeitgeschehen aus ungewohnter Perspektive. \n„Bitte recht freundlich“ ist ein Ost-West Familienfest mit Gesang\, Gift und Galle. Gute Unterhaltung mit Denkanstößen sind vorprogrammiert. \nDer Eintritt ist frei\, um Spenden wird gebeten.
URL:https://zwischenraum-aurich.de/termin/seid-nett-zueinander-familienfest-mit-gesang-gift-und-galle/
LOCATION:Zwischenraum Osterstraße\, Osterstraße 28-30\, Aurich\, 26603\, Deutschland
CATEGORIES:Kulturarbeit,Performance,Theater
ATTACH;FMTTYPE=image/jpeg:https://zwischenraum-aurich.de/wp-content/uploads/2026/03/Familie-2.jpg
ORGANIZER;CN="Zwischenraum":MAILTO:breev@zwischenraum-aurich.de
END:VEVENT
BEGIN:VEVENT
DTSTART;TZID=Europe/Berlin:20260508T180000
DTEND;TZID=Europe/Berlin:20260508T200000
DTSTAMP:20260421T025915
CREATED:20260402T154814Z
LAST-MODIFIED:20260402T155036Z
UID:3424-1778263200-1778270400@zwischenraum-aurich.de
SUMMARY:Ode an ein Gemüse
DESCRIPTION:Kulinarische Lieder und Texte von und mit Heinrich Herlyn\nDer in Leer geborene Ostfriese Heinrich Herlyn präsentiert unter dem leitmotivischen Motto „Ode an ein Gemüse“ ein humorvolles\, bisweilen auch tiefgründig-satirisches\, in jedem Fall aber äußerst unterhaltsames Programm mit überwiegend selbst verfassten Texten und Liedern. \nIm Mittelpunkt stehen ostfriesische Spezialitäten wie der berühmte Tee\, Bohnen mit Speck\, Schwarzbrot – und natürlich der Grünkohl. Diesem widmet Herlyn mit der „Ode an ein Gemüse“ sogar eine eigene Hymne\, die einem breiteren Publikum bekannt wurde\, als er sie in Emden gemeinsam mit der bekannten A-cappella-Gruppe Maybebop auf die Bühne brachte. Musikalisch begleitet wird Herlyn von Hartwig Oldenettel\, der mit seinem virtuosen Spiel auf Akkordeon und Klavier den Liedern den nötigen Swing und Groove verleiht. \nGemeinsam präsentieren die beiden ein Programm voller Wortwitz\, musikalischer Raffinesse und liebevoller Hommagen an die ostfriesische Küche\, bei dem es immer wieder auch die Gelegenheit zum Mitsingen gibt. \nDer Eintritt beträgt 12\,00 Euro.
URL:https://zwischenraum-aurich.de/termin/ode-an-ein-gemuese/
LOCATION:Zwischenraum Osterstraße\, Osterstraße 28-30\, Aurich\, 26603\, Deutschland
CATEGORIES:Konzert,Kulturarbeit,Performance
ATTACH;FMTTYPE=image/jpeg:https://zwischenraum-aurich.de/wp-content/uploads/2026/04/ode.jpg
ORGANIZER;CN="Zwischenraum":MAILTO:breev@zwischenraum-aurich.de
END:VEVENT
BEGIN:VEVENT
DTSTART;TZID=Europe/Berlin:20260509T140000
DTEND;TZID=Europe/Berlin:20260509T160000
DTSTAMP:20260421T025915
CREATED:20260402T153529Z
LAST-MODIFIED:20260402T153855Z
UID:3420-1778335200-1778342400@zwischenraum-aurich.de
SUMMARY:Finissage - "Zeitgeschehen - Versuch das Unfassbare sichtbar zu machen"
DESCRIPTION:Eine besondere Einzelausstellung geht zu Ende und das bedingt eine besondere Finissage. \nDetails folgen.
URL:https://zwischenraum-aurich.de/termin/finissage-zeitgeschehen-versuch-das-unfassbare-sichtbar-zu-machen/
CATEGORIES:Ausstellung,Finissage,Kulturarbeit
ATTACH;FMTTYPE=image/jpeg:https://zwischenraum-aurich.de/wp-content/uploads/2026/04/finissage-bartels.jpg
END:VEVENT
BEGIN:VEVENT
DTSTART;TZID=Europe/Berlin:20260515T190000
DTEND;TZID=Europe/Berlin:20260515T210000
DTSTAMP:20260421T025915
CREATED:20260402T155754Z
LAST-MODIFIED:20260402T155910Z
UID:3427-1778871600-1778878800@zwischenraum-aurich.de
SUMMARY:Vernissage - Stadtbild(er)
DESCRIPTION:Parallel zur Outdoor Prâsentation „Suche der Stadt Bestes“ findet eine 5-wöchige Themenausstellung statt. Das Motto ist nicht zufâllig gewählt\, aktueller denn je und soll die gesamte Bandbreite zeigen\, was eine lebenswerte Stadt ausmacht. \nInteressierte sind eingeladen\, ihre Werke zu prâsentieren.
URL:https://zwischenraum-aurich.de/termin/vernissage-stadtbilder/
LOCATION:Zwischenraum Osterstraße\, Osterstraße 28-30\, Aurich\, 26603\, Deutschland
CATEGORIES:Ausstellung,Kulturarbeit,Vernissage
ATTACH;FMTTYPE=image/jpeg:https://zwischenraum-aurich.de/wp-content/uploads/2026/04/stadtbilder-3.jpg
ORGANIZER;CN="Zwischenraum":MAILTO:breev@zwischenraum-aurich.de
END:VEVENT
BEGIN:VEVENT
DTSTART;TZID=Europe/Berlin:20260605T190000
DTEND;TZID=Europe/Berlin:20260605T210000
DTSTAMP:20260421T025915
CREATED:20260402T161314Z
LAST-MODIFIED:20260402T161842Z
UID:3432-1780686000-1780693200@zwischenraum-aurich.de
SUMMARY:Dick Taylor ante portas
DESCRIPTION:Die Rock-Legende Dick Taylor (Rolling Stones\, Pretty Things) gastiert um dritten Mal im Zwischenraum. Begleitet wird er von der bekannten deutschen Band „Tallyman„\, Als Vorgruppe stehen die Newcomer ‚Stiller Lärm“ auf der Bühne. \nWir freuen uns auf einen dynamischen Abend mit fetziger Musik. \nKarten sind im Vorverkauf für 22\,- € erhältlich (Mitglieder 19\,- €)\, an der Abendkasse werden 25\,- € verlangt. Ansprechpartner*innen für den Kartenvorverkauf sind per email vorstand@wischenraum-aurich.de. Oder kommt einfach zu den Öffnungszeiten in den Zwischenraum in der Osterstraße in Aurich.
URL:https://zwischenraum-aurich.de/termin/dick-taylor-ante-portas/
LOCATION:Zwischenraum Osterstraße\, Osterstraße 28-30\, Aurich\, 26603\, Deutschland
CATEGORIES:Konzert,Kulturarbeit
ATTACH;FMTTYPE=image/jpeg:https://zwischenraum-aurich.de/wp-content/uploads/2024/12/dick-taylor.jpg
ORGANIZER;CN="Zwischenraum":MAILTO:breev@zwischenraum-aurich.de
END:VEVENT
END:VCALENDAR